BEGIN:VCALENDAR
VERSION:2.0
PRODID:-//My Calendar//http://www.joedolson.com//v3.1.12//EN
METHOD:PUBLISH
CALSCALE:GREGORIAN
X-WR-CALNAME:駒場ＷＭＭ、ラグビー、東京都、クラブチーム
X-PUBLISHED-TTL:PT24H
REFRESH-INTERVAL;VALUE=DURATION:PT24H
X-WR-CALDESC:Events from 駒場ＷＭＭ、ラグビー、東京都、クラブチーム
BEGIN:VEVENT
UID:753-715
LOCATION:
SUMMARY:【未定】練習＠駒場東大G
DTSTAMP:20200322T170000
ORGANIZER;CN=komaba_wmm_20130506:MAILTO:tateno@southblues.co.jp
DTSTART;TZID=Asia/Tokyo:20200322T170000
DTEND;TZID=Asia/Tokyo:20200322T190000
URL;VALUE=URI:http://koma-wmm.jp
DESCRIPTION:＠駒場東大G17:00　練習 
CATEGORIES:General
END:VEVENT
BEGIN:VEVENT
UID:752-714
LOCATION:
SUMMARY:【未定】練習＠駒場東大G
DTSTAMP:20200321T120000
ORGANIZER;CN=komaba_wmm_20130506:MAILTO:tateno@southblues.co.jp
DTSTART;TZID=Asia/Tokyo:20200321T120000
DTEND;TZID=Asia/Tokyo:20200321T140000
URL;VALUE=URI:http://koma-wmm.jp
DESCRIPTION:＠駒場東大G8:30　合同練習 
CATEGORIES:General
END:VEVENT
BEGIN:VEVENT
UID:751-713
LOCATION:
SUMMARY:【未定】練習＠駒場東大G
DTSTAMP:20200320T120000
ORGANIZER;CN=komaba_wmm_20130506:MAILTO:tateno@southblues.co.jp
DTSTART;TZID=Asia/Tokyo:20200320T120000
DTEND;TZID=Asia/Tokyo:20200320T140000
URL;VALUE=URI:http://koma-wmm.jp
DESCRIPTION:＠駒場東大G12:00　練習 
CATEGORIES:General
END:VEVENT
BEGIN:VEVENT
UID:750-712
LOCATION:
SUMMARY:【中止】練習＠駒場東大G
DTSTAMP:20200314T120000
ORGANIZER;CN=komaba_wmm_20130506:MAILTO:tateno@southblues.co.jp
DTSTART;TZID=Asia/Tokyo:20200314T120000
DTEND;TZID=Asia/Tokyo:20200314T140000
URL;VALUE=URI:http://koma-wmm.jp
DESCRIPTION:＠駒場東大G12:00　練習 
CATEGORIES:General
END:VEVENT
BEGIN:VEVENT
UID:749-711
LOCATION:
SUMMARY:【中止】駒場ラグビーフェス＠駒場東大G
DTSTAMP:20200315T100000
ORGANIZER;CN=komaba_wmm_20130506:MAILTO:tateno@southblues.co.jp
DTSTART;TZID=Asia/Tokyo:20200315T100000
DTEND;TZID=Asia/Tokyo:20200315T130000
URL;VALUE=URI:http://koma-wmm.jp
DESCRIPTION:＠駒場東大G10:00～13:00予定 
CATEGORIES:General
END:VEVENT
BEGIN:VEVENT
UID:748-710
LOCATION:
SUMMARY:合同練習＠駒場東大G with東大
DTSTAMP:20200308T083000
ORGANIZER;CN=komaba_wmm_20130506:MAILTO:tateno@southblues.co.jp
DTSTART;TZID=Asia/Tokyo:20200308T083000
DTEND;TZID=Asia/Tokyo:20200308T103000
URL;VALUE=URI:http://koma-wmm.jp
DESCRIPTION:＠駒場東大G8:30　合同練習 
CATEGORIES:General
END:VEVENT
BEGIN:VEVENT
UID:747-709
LOCATION:
SUMMARY:練習＠駒場東大G
DTSTAMP:20200307T120000
ORGANIZER;CN=komaba_wmm_20130506:MAILTO:tateno@southblues.co.jp
DTSTART;TZID=Asia/Tokyo:20200307T120000
DTEND;TZID=Asia/Tokyo:20200307T140000
URL;VALUE=URI:http://koma-wmm.jp
DESCRIPTION:＠駒場東大G12:00　練習 
CATEGORIES:General
END:VEVENT
BEGIN:VEVENT
UID:746-708
LOCATION:
SUMMARY:練習試合＠駒場東大G vsRED WING
DTSTAMP:20200301T140000
ORGANIZER;CN=komaba_wmm_20130506:MAILTO:tateno@southblues.co.jp
DTSTART;TZID=Asia/Tokyo:20200301T140000
DTEND;TZID=Asia/Tokyo:20200301T160000
URL;VALUE=URI:http://koma-wmm.jp
DESCRIPTION:＠駒場東大G14:00　キックオフ 
CATEGORIES:General
END:VEVENT
BEGIN:VEVENT
UID:745-707
LOCATION:
SUMMARY:練習＠駒場東大G
DTSTAMP:20200229T160000
ORGANIZER;CN=komaba_wmm_20130506:MAILTO:tateno@southblues.co.jp
DTSTART;TZID=Asia/Tokyo:20200229T160000
DTEND;TZID=Asia/Tokyo:20200229T180000
URL;VALUE=URI:http://koma-wmm.jp
DESCRIPTION:＠駒場東大G16:00　練習 
CATEGORIES:General
END:VEVENT
BEGIN:VEVENT
UID:744-706
LOCATION:
SUMMARY:練習＠駒場東大G
DTSTAMP:20200224T120000
ORGANIZER;CN=komaba_wmm_20130506:MAILTO:tateno@southblues.co.jp
DTSTART;TZID=Asia/Tokyo:20200224T120000
DTEND;TZID=Asia/Tokyo:20200224T140000
URL;VALUE=URI:http://koma-wmm.jp
DESCRIPTION:＠駒場東大G12:00　練習 
CATEGORIES:General
END:VEVENT
BEGIN:VEVENT
UID:743-705
LOCATION:
SUMMARY:練習＠駒場東大G
DTSTAMP:20200223T160000
ORGANIZER;CN=komaba_wmm_20130506:MAILTO:tateno@southblues.co.jp
DTSTART;TZID=Asia/Tokyo:20200223T160000
DTEND;TZID=Asia/Tokyo:20200223T180000
URL;VALUE=URI:http://koma-wmm.jp
DESCRIPTION:＠駒場東大G16:00　練習 
CATEGORIES:General
END:VEVENT
BEGIN:VEVENT
UID:742-704
LOCATION:
SUMMARY:練習＠駒場東大G
DTSTAMP:20200222T120000
ORGANIZER;CN=komaba_wmm_20130506:MAILTO:tateno@southblues.co.jp
DTSTART;TZID=Asia/Tokyo:20200222T120000
DTEND;TZID=Asia/Tokyo:20200222T140000
URL;VALUE=URI:http://koma-wmm.jp
DESCRIPTION:＠駒場東大G12:00　練習 
CATEGORIES:General
END:VEVENT
BEGIN:VEVENT
UID:741-703
LOCATION:
SUMMARY:練習＠駒場東大G
DTSTAMP:20200211T160000
ORGANIZER;CN=komaba_wmm_20130506:MAILTO:tateno@southblues.co.jp
DTSTART;TZID=Asia/Tokyo:20200211T160000
DTEND;TZID=Asia/Tokyo:20200211T180000
URL;VALUE=URI:http://koma-wmm.jp
DESCRIPTION:＠駒場東大G16:00　練習 
CATEGORIES:General
END:VEVENT
BEGIN:VEVENT
UID:740-702
LOCATION:
SUMMARY:練習＠駒場東大G
DTSTAMP:20200209T160000
ORGANIZER;CN=komaba_wmm_20130506:MAILTO:tateno@southblues.co.jp
DTSTART;TZID=Asia/Tokyo:20200209T160000
DTEND;TZID=Asia/Tokyo:20200209T180000
URL;VALUE=URI:http://koma-wmm.jp
DESCRIPTION:＠駒場東大G16:00　練習 
CATEGORIES:General
END:VEVENT
BEGIN:VEVENT
UID:739-701
LOCATION:
SUMMARY:練習＠駒場東大G
DTSTAMP:20200208T120000
ORGANIZER;CN=komaba_wmm_20130506:MAILTO:tateno@southblues.co.jp
DTSTART;TZID=Asia/Tokyo:20200208T120000
DTEND;TZID=Asia/Tokyo:20200208T140000
URL;VALUE=URI:http://koma-wmm.jp
DESCRIPTION:＠駒場東大G12:00　練習 
CATEGORIES:General
END:VEVENT
BEGIN:VEVENT
UID:738-700
LOCATION:
SUMMARY:練習＠早大学院G
DTSTAMP:20200119T130000
ORGANIZER;CN=komaba_wmm_20130506:MAILTO:tateno@southblues.co.jp
DTSTART;TZID=Asia/Tokyo:20200119T130000
DTEND;TZID=Asia/Tokyo:20200119T150000
URL;VALUE=URI:http://koma-wmm.jp
DESCRIPTION:＠早大学院G13:00　練習 
CATEGORIES:General
END:VEVENT
BEGIN:VEVENT
UID:737-699
LOCATION:
SUMMARY:練習＠駒場東大G
DTSTAMP:20200126T090000
ORGANIZER;CN=komaba_wmm_20130506:MAILTO:tateno@southblues.co.jp
DTSTART;TZID=Asia/Tokyo:20200126T090000
DTEND;TZID=Asia/Tokyo:20200126T110000
URL;VALUE=URI:http://koma-wmm.jp
DESCRIPTION:＠駒場東大G9:00　練習 
CATEGORIES:General
END:VEVENT
BEGIN:VEVENT
UID:736-698
LOCATION:
SUMMARY:試合＠駒場東大G　vsセントメリー大学
DTSTAMP:20200125T100000
ORGANIZER;CN=komaba_wmm_20130506:MAILTO:tateno@southblues.co.jp
DTSTART;TZID=Asia/Tokyo:20200125T100000
DTEND;TZID=Asia/Tokyo:20200125T120000
URL;VALUE=URI:http://koma-wmm.jp
DESCRIPTION:＠駒場G9:30　 集合、アップ開始10:30　キックオフ予定試合後　懇親会 
CATEGORIES:General
END:VEVENT
BEGIN:VEVENT
UID:735-697
LOCATION:
SUMMARY:合同練習＠学習院大G
DTSTAMP:20200118T140000
ORGANIZER;CN=komaba_wmm_20130506:MAILTO:tateno@southblues.co.jp
DTSTART;TZID=Asia/Tokyo:20200118T140000
DTEND;TZID=Asia/Tokyo:20200118T160000
URL;VALUE=URI:http://koma-wmm.jp
DESCRIPTION:＠学習院大G14:00　IBM、学習院大と合同 
CATEGORIES:General
END:VEVENT
BEGIN:VEVENT
UID:733-696
LOCATION:
SUMMARY:練習＠駒場東大G
DTSTAMP:20200113T090000
ORGANIZER;CN=komaba_wmm_20130506:MAILTO:tateno@southblues.co.jp
DTSTART;TZID=Asia/Tokyo:20200113T090000
DTEND;TZID=Asia/Tokyo:20200113T110000
URL;VALUE=URI:http://koma-wmm.jp
DESCRIPTION:＠駒場東大G9:00　練習 
CATEGORIES:General
END:VEVENT
BEGIN:VEVENT
UID:732-695
LOCATION:
SUMMARY:練習＠駒場東大G
DTSTAMP:20200112T160000
ORGANIZER;CN=komaba_wmm_20130506:MAILTO:tateno@southblues.co.jp
DTSTART;TZID=Asia/Tokyo:20200112T160000
DTEND;TZID=Asia/Tokyo:20200112T180000
URL;VALUE=URI:http://koma-wmm.jp
DESCRIPTION:＠駒場東大G16:00　練習 
CATEGORIES:General
END:VEVENT
BEGIN:VEVENT
UID:731-694
LOCATION:
SUMMARY:練習＠駒場東大G／2019納会
DTSTAMP:20200111T110000
ORGANIZER;CN=komaba_wmm_20130506:MAILTO:tateno@southblues.co.jp
DTSTART;TZID=Asia/Tokyo:20200111T110000
DTEND;TZID=Asia/Tokyo:20200111T130000
URL;VALUE=URI:http://koma-wmm.jp
DESCRIPTION:＠駒場東大G11:00　練習17:30　納会会場開場18:00　納会開始＠CICADA 
CATEGORIES:General
END:VEVENT
BEGIN:VEVENT
UID:730-693
LOCATION:
SUMMARY:三井不動産合同練習＠東芝G
DTSTAMP:20191214T113000
ORGANIZER;CN=komaba_wmm_20130506:MAILTO:tateno@southblues.co.jp
DTSTART;TZID=Asia/Tokyo:20191214T113000
DTEND;TZID=Asia/Tokyo:20191214T133000
URL;VALUE=URI:http://koma-wmm.jp
DESCRIPTION:＠東芝G10:50　北府中駅集合11:00　グラウンド到着11:30　練習開始 
CATEGORIES:General
END:VEVENT
BEGIN:VEVENT
UID:729-692
LOCATION:
SUMMARY:練習＠駒場東大G
DTSTAMP:20191221T160000
ORGANIZER;CN=komaba_wmm_20130506:MAILTO:tateno@southblues.co.jp
DTSTART;TZID=Asia/Tokyo:20191221T160000
DTEND;TZID=Asia/Tokyo:20191221T180000
URL;VALUE=URI:http://koma-wmm.jp
DESCRIPTION:＠駒場東大G16:00　練習 
CATEGORIES:General
END:VEVENT
BEGIN:VEVENT
UID:728-691
LOCATION:
SUMMARY:トップクラブリーグvsタイセーハウジー＠保土ヶ谷ラグビー場
DTSTAMP:20191201T103000
ORGANIZER;CN=komaba_wmm_20130506:MAILTO:tateno@southblues.co.jp
DTSTART;TZID=Asia/Tokyo:20191201T103000
DTEND;TZID=Asia/Tokyo:20191201T150000
URL;VALUE=URI:http://koma-wmm.jp
DESCRIPTION:＠保土ヶ谷ラグビー場10:30　保土ヶ谷駅集合10:42　バス移動11:00　保土ヶ谷ラグビー場集合12:00　アップ開始13:00　キックオフ 
CATEGORIES:General
END:VEVENT
BEGIN:VEVENT
UID:727-690
LOCATION:
SUMMARY:練習＠ICU G
DTSTAMP:20191130T130000
ORGANIZER;CN=komaba_wmm_20130506:MAILTO:tateno@southblues.co.jp
DTSTART;TZID=Asia/Tokyo:20191130T130000
DTEND;TZID=Asia/Tokyo:20191130T160000
URL;VALUE=URI:http://koma-wmm.jp
DESCRIPTION:＠ICU G13:00　中央線武蔵境駅集合13:10　バス移動14:00　練習 
CATEGORIES:General
END:VEVENT
BEGIN:VEVENT
UID:726-689
LOCATION:
SUMMARY:トップクラブリーグvsタマリバクラブ＠流経大G
DTSTAMP:20191124T140000
ORGANIZER;CN=komaba_wmm_20130506:MAILTO:tateno@southblues.co.jp
DTSTART;TZID=Asia/Tokyo:20191124T140000
DTEND;TZID=Asia/Tokyo:20191124T160000
URL;VALUE=URI:http://koma-wmm.jp
DESCRIPTION:＠流経大G14:00　キックオフ 
CATEGORIES:General
END:VEVENT
BEGIN:VEVENT
UID:725-688
LOCATION:
SUMMARY:練習＠駒場東大G
DTSTAMP:20191117T160000
ORGANIZER;CN=komaba_wmm_20130506:MAILTO:tateno@southblues.co.jp
DTSTART;TZID=Asia/Tokyo:20191117T160000
DTEND;TZID=Asia/Tokyo:20191117T180000
URL;VALUE=URI:http://koma-wmm.jp
DESCRIPTION:＠駒場東大G16:00　練習 
CATEGORIES:General
END:VEVENT
BEGIN:VEVENT
UID:724-687
LOCATION:
SUMMARY:首都リーグ交流戦vsクルセイダーズ＠駒場G
DTSTAMP:20191110T163000
ORGANIZER;CN=komaba_wmm_20130506:MAILTO:tateno@southblues.co.jp
DTSTART;TZID=Asia/Tokyo:20191110T163000
DTEND;TZID=Asia/Tokyo:20191110T183000
URL;VALUE=URI:http://koma-wmm.jp
DESCRIPTION:＠駒場G16:30　キックオフ 
CATEGORIES:General
END:VEVENT
BEGIN:VEVENT
UID:723-686
LOCATION:
SUMMARY:練習＠駒場東大G
DTSTAMP:20191109T160000
ORGANIZER;CN=komaba_wmm_20130506:MAILTO:tateno@southblues.co.jp
DTSTART;TZID=Asia/Tokyo:20191109T160000
DTEND;TZID=Asia/Tokyo:20191109T180000
URL;VALUE=URI:http://koma-wmm.jp
DESCRIPTION:＠駒場東大G16:00　練習 
CATEGORIES:General
END:VEVENT
END:VCALENDAR